BEGIN:VCALENDAR
VERSION:2.0
PRODID:nexusbrn.hkust.edu.hk
BEGIN:VEVENT
UID:69e5f48f7db27
DTSTART:20240316T150000Z
SEQUENCE:0
TRANSP:OPAQUE
DTEND:20240316T210000Z
SUMMARY:Navigating Belonging Digital Stories Exhibition Launch - &quot\;Se
 ated With Strangers&quot\; with be/longing @EatonHK
CLASS:PUBLIC
DESCRIPTION:Navigating Belonging Digital Stories Exhibition Launch - &quot
 \;Seated With Strangers&quot\; with be/longing @EatonHK
DTSTAMP:20260420T094031Z
END:VEVENT
BEGIN:VEVENT
UID:69e5f48f7db6f
DTSTART:20240317T150000Z
SEQUENCE:0
TRANSP:OPAQUE
DTEND:20240317T210000Z
SUMMARY:Navigating Belonging Digital Stories Exhibition Launch - &quot\;Se
 ated With Strangers&quot\; with be/longing @EatonHK
CLASS:PUBLIC
DESCRIPTION:Navigating Belonging Digital Stories Exhibition Launch - &quot
 \;Seated With Strangers&quot\; with be/longing @EatonHK
DTSTAMP:20260420T094031Z
END:VEVENT
END:VCALENDAR