BEGIN:VCALENDAR
VERSION:2.0
PRODID:nexusbrn.hkust.edu.hk
BEGIN:VEVENT
UID:69e6075f793ed
DTSTART;VALUE=DATE:20210928
SEQUENCE:0
TRANSP:OPAQUE
DTEND;VALUE=DATE:20210929
SUMMARY:Navigating Belonging: Exploring settlement for South Asians in Hong
  Kong through narrative and participatory photography
CLASS:PUBLIC
DESCRIPTION:Navigating Belonging: Exploring settlement for South Asians in 
 Hong Kong through narrative and participatory photography
X-MICROSOFT-CDO-ALLDAYEVENT:TRUE
DTSTAMP:20260420T110047Z
END:VEVENT
END:VCALENDAR